BEGIN:VCALENDAR
VERSION:2.0
PRODID:Mountain View, CA Calendar Creator
METHOD:PUBLISH
BEGIN:VEVENT
DTSTAMP:20260130T110831
DTSTART:20260422T160000
DTEND:20260422T170000
SUMMARY:Magical Bridge Performance Series
DESCRIPTION:<p>Join us for a fun-filled afternoon of music and entertainment at the Magical Bridge Playground in Rengstorff Park! This family-friendly series, perfect for all ages and abilities, will feature exciting live performances such as magicians, puppeteers, musicians and more!&nbsp;</p><p>Dates: Wednesdays, April 8 &amp; 22; May 6 &amp; 20; June 3 &amp; 24, 2026<br>Time: 4 – 5 p.m.&nbsp;<br>Location: Magical Bridge Playground, Rengstorff Park, 201 South Rengstorff Avenue&nbsp;</p><p>Don't miss this magical mix of music, creativity, and joy! </p><p>For more information and a list of performers, visit&nbsp;<a href="https://www.mountainview.gov/our-city/departments/community-services/special-events/magical-bridge-performance-series#!/" target="_blank">MountainView.gov/MagicalBridgeSeries</a>.&nbsp;</p>
X-ALT-DESC;FMTTYPE=text/html:<p>Join us for a fun-filled afternoon of music and entertainment at the Magical Bridge Playground in Rengstorff Park! This family-friendly series, perfect for all ages and abilities, will feature exciting live performances such as magicians, puppeteers, musicians and more!&nbsp;</p><p>Dates: Wednesdays, April 8 &amp; 22; May 6 &amp; 20; June 3 &amp; 24, 2026<br>Time: 4 – 5 p.m.&nbsp;<br>Location: Magical Bridge Playground, Rengstorff Park, 201 South Rengstorff Avenue&nbsp;</p><p>Don't miss this magical mix of music, creativity, and joy! </p><p>For more information and a list of performers, visit&nbsp;<a href="https://www.mountainview.gov/our-city/departments/community-services/special-events/magical-bridge-performance-series#!/" target="_blank">MountainView.gov/MagicalBridgeSeries</a>.&nbsp;</p>
LOCATION:Magical Bridge\, 201 S. Rengstorff Ave Mountain View\, California 94040
CLASS:PUBLIC
END:VEVENT
END:VCALENDAR
