BEGIN:VCALENDAR
VERSION:2.0
PRODID:Mountain View, CA Calendar Creator
METHOD:PUBLISH
BEGIN:VEVENT
DTSTAMP:20260114T154512
DTSTART:20260408T170000
DTEND:20260408T184500
SUMMARY:Music on Castro
DESCRIPTION:<p>The 2026&nbsp;Music on Castro&nbsp;series returns to Downtown Mountain View from April to October, featuring live performances every Wednesday. From 5 to 6:45 p.m., enjoy a dynamic lineup of local and regional talent while exploring Downtown shops and dining. Make it a midweek tradition and experience the perfect blend of music, community, and fun!&nbsp;<i>No performances during inclement weather.</i></p><p>Visit&nbsp;<a href="https://www.mountainview.gov/our-city/departments/community-services/music-on-castro" target="_blank" rel="noopener">MountainView.gov/MusicOnCastro</a>&nbsp;to view the performance schedule.</p>
X-ALT-DESC;FMTTYPE=text/html:<p>The 2026&nbsp;Music on Castro&nbsp;series returns to Downtown Mountain View from April to October, featuring live performances every Wednesday. From 5 to 6:45 p.m., enjoy a dynamic lineup of local and regional talent while exploring Downtown shops and dining. Make it a midweek tradition and experience the perfect blend of music, community, and fun!&nbsp;<i>No performances during inclement weather.</i></p><p>Visit&nbsp;<a href="https://www.mountainview.gov/our-city/departments/community-services/music-on-castro" target="_blank" rel="noopener">MountainView.gov/MusicOnCastro</a>&nbsp;to view the performance schedule.</p>
LOCATION:Downtown Castro Street\, 200 Block of Castro Street Mountain View\, California 94041
CLASS:PUBLIC
END:VEVENT
END:VCALENDAR
